BEGIN:VCALENDAR
VERSION:2.0
PRODID:-// - ECPv6.15.20//NONSGML v1.0//EN
CALSCALE:GREGORIAN
METHOD:PUBLISH
X-ORIGINAL-URL:https://gracieshouse.org
X-WR-CALDESC:Events for 
REFRESH-INTERVAL;VALUE=DURATION:PT1H
X-Robots-Tag:noindex
X-PUBLISHED-TTL:PT1H
BEGIN:VTIMEZONE
TZID:America/Los_Angeles
BEGIN:DAYLIGHT
TZOFFSETFROM:-0800
TZOFFSETTO:-0700
TZNAME:PDT
DTSTART:20170312T100000
END:DAYLIGHT
BEGIN:STANDARD
TZOFFSETFROM:-0700
TZOFFSETTO:-0800
TZNAME:PST
DTSTART:20171105T090000
END:STANDARD
BEGIN:DAYLIGHT
TZOFFSETFROM:-0800
TZOFFSETTO:-0700
TZNAME:PDT
DTSTART:20180311T100000
END:DAYLIGHT
BEGIN:STANDARD
TZOFFSETFROM:-0700
TZOFFSETTO:-0800
TZNAME:PST
DTSTART:20181104T090000
END:STANDARD
BEGIN:DAYLIGHT
TZOFFSETFROM:-0800
TZOFFSETTO:-0700
TZNAME:PDT
DTSTART:20190310T100000
END:DAYLIGHT
BEGIN:STANDARD
TZOFFSETFROM:-0700
TZOFFSETTO:-0800
TZNAME:PST
DTSTART:20191103T090000
END:STANDARD
END:VTIMEZONE
BEGIN:VEVENT
DTSTART;TZID=America/Los_Angeles:20180602T130000
DTEND;TZID=America/Los_Angeles:20180602T140000
DTSTAMP:20260422T060248
CREATED:20180402T230831Z
LAST-MODIFIED:20180402T230831Z
UID:526-1527944400-1527948000@gracieshouse.org
SUMMARY:Kaizen Crossfit's workouts for all abilities
DESCRIPTION:
URL:https://gracieshouse.org/event/kaizen-crossfits-workouts-for-all-abilities-4/
LOCATION:Kaizen Crossfit\, 4520 S. Hualapai Way\, Las Vegas\, NV\, 89147\, United States
END:VEVENT
BEGIN:VEVENT
DTSTART;TZID=America/Los_Angeles:20180526T160000
DTEND;TZID=America/Los_Angeles:20180526T210000
DTSTAMP:20260422T060248
CREATED:20180402T224936Z
LAST-MODIFIED:20180402T224936Z
UID:521-1527350400-1527368400@gracieshouse.org
SUMMARY:Joy Prom 2018-To the Moon
DESCRIPTION:Joy Prom Las Vegas is a full-scale prom for teenagers and adult individuals with cognitive and physical impairments. Guest and volunteer options available now at www.joypromlasvegas.org. \nPlease refer questions and inquiries to kelly@gracieshouse.org. \n  \n  \n \n 
URL:https://gracieshouse.org/event/joy-prom-2018-to-the-moon/
LOCATION:The M Resort\, 12300 Las Vegas Blvd S.\, Henderson\, NV\, 89044\, United States
END:VEVENT
BEGIN:VEVENT
DTSTART;TZID=America/Los_Angeles:20180519T130000
DTEND;TZID=America/Los_Angeles:20180519T140000
DTSTAMP:20260422T060248
CREATED:20180402T223454Z
LAST-MODIFIED:20180402T223454Z
UID:519-1526734800-1526738400@gracieshouse.org
SUMMARY:Kaizen Crossfit's Workouts for all abilities
DESCRIPTION:
URL:https://gracieshouse.org/event/kaizen-crossfits-workouts-for-all-abilities-3/
LOCATION:Kaizen Crossfit\, 4520 S. Hualapai Way\, Las Vegas\, NV\, 89147\, United States
END:VEVENT
BEGIN:VEVENT
DTSTART;TZID=America/Los_Angeles:20180505T093000
DTEND;TZID=America/Los_Angeles:20180505T140000
DTSTAMP:20260422T060248
CREATED:20180402T223121Z
LAST-MODIFIED:20180402T223121Z
UID:515-1525512600-1525528800@gracieshouse.org
SUMMARY:Project 150's Prom Closet for Joy Prom
DESCRIPTION:
URL:https://gracieshouse.org/event/project-150s-prom-closet-for-joy-prom/
LOCATION:Betty’s Boutique\, 3600 N Rancho Drive\, Las Vegas\, NV\, 89130\, United States
END:VEVENT
BEGIN:VEVENT
DTSTART;TZID=America/Los_Angeles:20180430T100000
DTEND;TZID=America/Los_Angeles:20180430T110000
DTSTAMP:20260422T060248
CREATED:20180402T214904Z
LAST-MODIFIED:20180411T003410Z
UID:502-1525082400-1525086000@gracieshouse.org
SUMMARY:Parent Support Meetup
DESCRIPTION:We all can use a little support from time to time:) Come join us for coffee and great conversation.
URL:https://gracieshouse.org/event/parent-support-meetup/
LOCATION:Kneaders Bakery and Cafe\, 7100 West Craig Road\, 89129
END:VEVENT
BEGIN:VEVENT
DTSTART;TZID=America/Los_Angeles:20180427T170000
DTEND;TZID=America/Los_Angeles:20180427T190000
DTSTAMP:20260422T060248
CREATED:20180402T221820Z
LAST-MODIFIED:20180425T142622Z
UID:510-1524848400-1524855600@gracieshouse.org
SUMMARY:Parent Support Evening Meetup
DESCRIPTION:Parent-Meetup-flier-4-27-18 \nMoms and Dads\, we could all use a little support from time to time:) Join us at Lazy Dog Restaurant & Bar on the patio this FRIDAY for a beverage and great conversation! (Dogs welcome!)
URL:https://gracieshouse.org/event/parent-support-evening-meetup/
LOCATION:Lazy Dog Restaurant & Bar\, 6509 S Las Vegas Blvd\, Las Vegas\, NV\, 89119\, United States
END:VEVENT
BEGIN:VEVENT
DTSTART;TZID=America/Los_Angeles:20180421T130000
DTEND;TZID=America/Los_Angeles:20180421T140000
DTSTAMP:20260422T060248
CREATED:20180402T220639Z
LAST-MODIFIED:20180402T220639Z
UID:508-1524315600-1524319200@gracieshouse.org
SUMMARY:Kaizen Crossfit's Workouts for all ages and abilities
DESCRIPTION:
URL:https://gracieshouse.org/event/kaizen-crossfits-workouts-for-all-ages-and-abilities/
LOCATION:Kaizen Crossfit\, 4520 S. Hualapai Way\, Las Vegas\, NV\, 89147\, United States
END:VEVENT
BEGIN:VEVENT
DTSTART;TZID=America/Los_Angeles:20180414T083000
DTEND;TZID=America/Los_Angeles:20180414T130000
DTSTAMP:20260422T060248
CREATED:20180402T215737Z
LAST-MODIFIED:20180402T215737Z
UID:506-1523694600-1523710800@gracieshouse.org
SUMMARY:Best Buddies Friendship Walk
DESCRIPTION:Join Gracie’s House in supporting FRIENDSHIP and INCLUSION at the Best Buddies Nevada Friendship Walk on April 14th\, 2018
URL:https://gracieshouse.org/event/best-buddies-friendship-walk/
LOCATION:NV
END:VEVENT
BEGIN:VEVENT
DTSTART;TZID=America/Los_Angeles:20180407T130000
DTEND;TZID=America/Los_Angeles:20180407T140000
DTSTAMP:20260422T060248
CREATED:20180329T050754Z
LAST-MODIFIED:20180329T050754Z
UID:497-1523106000-1523109600@gracieshouse.org
SUMMARY:Kaizen Crossfit's Workouts for all abilities
DESCRIPTION:
URL:https://gracieshouse.org/event/kaizen-crossfits-workouts-for-all-abilities/
LOCATION:Kaizen Crossfit\, 4520 S. Hualapai Way\, Las Vegas\, NV\, 89147\, United States
END:VEVENT
BEGIN:VEVENT
DTSTART;TZID=America/Los_Angeles:20180330T160000
DTEND;TZID=America/Los_Angeles:20180330T200000
DTSTAMP:20260422T060248
CREATED:20180329T045025Z
LAST-MODIFIED:20180329T045025Z
UID:493-1522425600-1522440000@gracieshouse.org
SUMMARY:Flip N Out Xtreme with JCLUB
DESCRIPTION:
URL:https://gracieshouse.org/event/flip-n-out-xtreme-with-jclub/
LOCATION:Flip N Out Xtreme\, 4245 S. Grand Canyon\, Las Vegas\, NV\, 89147\, United States
END:VEVENT
END:VCALENDAR