BEGIN:VCALENDAR
VERSION:2.0
PRODID:-// - ECPv6.15.20//NONSGML v1.0//EN
CALSCALE:GREGORIAN
METHOD:PUBLISH
X-ORIGINAL-URL:https://gracieshouse.org
X-WR-CALDESC:Events for 
REFRESH-INTERVAL;VALUE=DURATION:PT1H
X-Robots-Tag:noindex
X-PUBLISHED-TTL:PT1H
BEGIN:VTIMEZONE
TZID:America/Los_Angeles
BEGIN:DAYLIGHT
TZOFFSETFROM:-0800
TZOFFSETTO:-0700
TZNAME:PDT
DTSTART:20170312T100000
END:DAYLIGHT
BEGIN:STANDARD
TZOFFSETFROM:-0700
TZOFFSETTO:-0800
TZNAME:PST
DTSTART:20171105T090000
END:STANDARD
BEGIN:DAYLIGHT
TZOFFSETFROM:-0800
TZOFFSETTO:-0700
TZNAME:PDT
DTSTART:20180311T100000
END:DAYLIGHT
BEGIN:STANDARD
TZOFFSETFROM:-0700
TZOFFSETTO:-0800
TZNAME:PST
DTSTART:20181104T090000
END:STANDARD
BEGIN:DAYLIGHT
TZOFFSETFROM:-0800
TZOFFSETTO:-0700
TZNAME:PDT
DTSTART:20190310T100000
END:DAYLIGHT
BEGIN:STANDARD
TZOFFSETFROM:-0700
TZOFFSETTO:-0800
TZNAME:PST
DTSTART:20191103T090000
END:STANDARD
BEGIN:DAYLIGHT
TZOFFSETFROM:-0800
TZOFFSETTO:-0700
TZNAME:PDT
DTSTART:20200308T100000
END:DAYLIGHT
BEGIN:STANDARD
TZOFFSETFROM:-0700
TZOFFSETTO:-0800
TZNAME:PST
DTSTART:20201101T090000
END:STANDARD
END:VTIMEZONE
BEGIN:VEVENT
DTSTART;TZID=America/Los_Angeles:20190914T080000
DTEND;TZID=America/Los_Angeles:20190914T100000
DTSTAMP:20260420T011816
CREATED:20190904T011844Z
LAST-MODIFIED:20190904T011844Z
UID:738-1568448000-1568455200@gracieshouse.org
SUMMARY:St. Jude Walk
DESCRIPTION:
URL:https://gracieshouse.org/event/st-jude-walk/
LOCATION:Town Square\, 6605 S Las Vegas Blvd\, Las Vegas\, NV\, 89119\, United States
END:VEVENT
BEGIN:VEVENT
DTSTART;TZID=America/Los_Angeles:20190620T183000
DTEND;TZID=America/Los_Angeles:20190620T213000
DTSTAMP:20260420T011816
CREATED:20190502T015059Z
LAST-MODIFIED:20190618T015112Z
UID:705-1561055400-1561066200@gracieshouse.org
SUMMARY:High Roller Observation Wheel/Off The Strip
DESCRIPTION:
URL:https://gracieshouse.org/event/high-roller-observation-wheel-off-the-strip/
LOCATION:The Linq High Roller\, 3545 S Las Vegas BLVD\, Las Vegas\, NV\, 89109\, United States
ORGANIZER;CN="Kelly Cooper":MAILTO:kelly@gracieshouse.org
END:VEVENT
BEGIN:VEVENT
DTSTART;TZID=America/Los_Angeles:20190525T160000
DTEND;TZID=America/Los_Angeles:20190525T210000
DTSTAMP:20260420T011816
CREATED:20190130T233313Z
LAST-MODIFIED:20190130T233313Z
UID:681-1558800000-1558818000@gracieshouse.org
SUMMARY:Joy Prom....10 Years of Choosing Joy
DESCRIPTION:
URL:https://gracieshouse.org/event/joy-prom-10-years-of-choosing-joy/
LOCATION:M Resort\, 12300 S Las Vegas Blvd\, Henderson\, NV\, 89044\, United States
END:VEVENT
BEGIN:VEVENT
DTSTART;TZID=America/Los_Angeles:20190407T103000
DTEND;TZID=America/Los_Angeles:20190407T113000
DTSTAMP:20260420T011816
CREATED:20190216T164540Z
LAST-MODIFIED:20190320T173847Z
UID:686-1554633000-1554636600@gracieshouse.org
SUMMARY:Goat Yoga
DESCRIPTION:
URL:https://gracieshouse.org/event/goat-yoga/
LOCATION:Western Trails\, 7355 Rogers St\, Las Vegas\, NV\, 89139\, United States
ORGANIZER;CN="Kelly Cooper":MAILTO:kelly@gracieshouse.org
END:VEVENT
BEGIN:VEVENT
DTSTART;TZID=America/Los_Angeles:20190406T083000
DTEND;TZID=America/Los_Angeles:20190406T120000
DTSTAMP:20260420T011816
CREATED:20190216T170916Z
LAST-MODIFIED:20190216T170916Z
UID:691-1554539400-1554552000@gracieshouse.org
SUMMARY:Best Buddies Friendship Walk
DESCRIPTION:
URL:https://gracieshouse.org/event/best-buddies-friendship-walk-2/
LOCATION:Symphony Park\, 361 Symphony Park Ave\, Las Vegas\, NV\, 89106\, United States
END:VEVENT
BEGIN:VEVENT
DTSTART;VALUE=DATE:20190302
DTEND;VALUE=DATE:20190303
DTSTAMP:20260420T011816
CREATED:20190130T232757Z
LAST-MODIFIED:20190130T232757Z
UID:677-1551484800-1551571199@gracieshouse.org
SUMMARY:Mark 10:14 Drive thru BBQ at Faith Lutheran MS/HS
DESCRIPTION:
URL:https://gracieshouse.org/event/mark-1014-drive-thru-bbq-at-faith-lutheran-ms-hs/
LOCATION:Faith Lutheran Middle and High School\, 2015 S Hualapai Way\, Las Vegas\, NV\, 89117\, United States
END:VEVENT
BEGIN:VEVENT
DTSTART;TZID=America/Los_Angeles:20190223T120000
DTEND;TZID=America/Los_Angeles:20190223T140000
DTSTAMP:20260420T011816
CREATED:20190130T231640Z
LAST-MODIFIED:20190130T231640Z
UID:675-1550923200-1550930400@gracieshouse.org
SUMMARY:Mediterranean Cooking Class
DESCRIPTION:
URL:https://gracieshouse.org/event/mediterranean-cooking-class/
LOCATION:34 Carolina Cherry\, Las Vegas\, NV\, 89141\, United States
ORGANIZER;CN="Kelly Cooper":MAILTO:kelly@gracieshouse.org
END:VEVENT
BEGIN:VEVENT
DTSTART;TZID=America/Los_Angeles:20181216T120000
DTEND;TZID=America/Los_Angeles:20181216T140000
DTSTAMP:20260420T011816
CREATED:20181103T051550Z
LAST-MODIFIED:20181215T160811Z
UID:667-1544961600-1544968800@gracieshouse.org
SUMMARY:Cooking Class POSTPONED
DESCRIPTION:
URL:https://gracieshouse.org/event/cooking-class/
LOCATION:34 Carolina Cherry\, Las Vegas\, NV\, 89141\, United States
END:VEVENT
BEGIN:VEVENT
DTSTART;TZID=America/Los_Angeles:20181118T090000
DTEND;TZID=America/Los_Angeles:20181118T120000
DTSTAMP:20260420T011816
CREATED:20181024T201512Z
LAST-MODIFIED:20181024T201512Z
UID:661-1542531600-1542542400@gracieshouse.org
SUMMARY:Gracie's House 2nd Annual Kickball Tournament
DESCRIPTION:
URL:https://gracieshouse.org/event/gracies-house-2nd-annual-kickball-tournament-2/
LOCATION:New Vista Ranch\, 7875 N Rainbow Blvd\, Las Vegas\, NV\, 89131\, United States
ORGANIZER;CN="Kelly Cooper":MAILTO:kelly@gracieshouse.org
END:VEVENT
BEGIN:VEVENT
DTSTART;TZID=America/Los_Angeles:20181027T093000
DTEND;TZID=America/Los_Angeles:20181027T103000
DTSTAMP:20260420T011816
CREATED:20181024T201803Z
LAST-MODIFIED:20181024T201803Z
UID:664-1540632600-1540636200@gracieshouse.org
SUMMARY:Crossfit for all abilities
DESCRIPTION:
URL:https://gracieshouse.org/event/crossfit-for-all-abilities/
LOCATION:Kaizen Crossfit\, 4520 S. Hualapai Way\, Las Vegas\, NV\, 89147\, United States
END:VEVENT
BEGIN:VEVENT
DTSTART;TZID=America/Los_Angeles:20181020T110000
DTEND;TZID=America/Los_Angeles:20181020T130000
DTSTAMP:20260420T011816
CREATED:20180830T204137Z
LAST-MODIFIED:20180830T204137Z
UID:645-1540033200-1540040400@gracieshouse.org
SUMMARY:Krav Maga-Self Defense Class for All Abilities
DESCRIPTION:
URL:https://gracieshouse.org/event/krav-maga-self-defense-class-for-all-abilities/
LOCATION:Kaizen Crossfit\, 4520 S. Hualapai Way\, Las Vegas\, NV\, 89147\, United States
END:VEVENT
BEGIN:VEVENT
DTSTART;TZID=America/Los_Angeles:20181005T180000
DTEND;TZID=America/Los_Angeles:20181005T210000
DTSTAMP:20260420T011816
CREATED:20180830T205008Z
LAST-MODIFIED:20180830T205008Z
UID:648-1538762400-1538773200@gracieshouse.org
SUMMARY:Events to Remember-Charity Wine Tasting- benefitting Gracie's House
DESCRIPTION:
URL:https://gracieshouse.org/event/events-to-remember-charity-wine-tasting-benefitting-gracies-house/
LOCATION:Private Home\, 3334 Beam Drive\, Las Vegas\, NV\, 89139\, United States
END:VEVENT
BEGIN:VEVENT
DTSTART;TZID=America/Los_Angeles:20180929T093000
DTEND;TZID=America/Los_Angeles:20180929T103000
DTSTAMP:20260420T011816
CREATED:20180717T175607Z
LAST-MODIFIED:20180717T175607Z
UID:634-1538213400-1538217000@gracieshouse.org
SUMMARY:Kaizen Crossfit's workouts for ALL ABILITIES
DESCRIPTION:
URL:https://gracieshouse.org/event/kaizen-crossfits-workouts-for-all-abilities-17/
LOCATION:NV
END:VEVENT
BEGIN:VEVENT
DTSTART;TZID=America/Los_Angeles:20180922T100000
DTEND;TZID=America/Los_Angeles:20180922T140000
DTSTAMP:20260420T011816
CREATED:20180817T170452Z
LAST-MODIFIED:20180817T170452Z
UID:637-1537610400-1537624800@gracieshouse.org
SUMMARY:Health Fair with Special Olympics
DESCRIPTION:SONV Health Fair 2018 Flyer
URL:https://gracieshouse.org/event/health-fair-with-special-olympics/
LOCATION:Bishop Gorman High School\, 5959 S. Hualapai Way\, Las Vegas\, NV\, 89148\, United States
ORGANIZER;CN="Harry mong":MAILTO:HarryM@sonv.org
END:VEVENT
BEGIN:VEVENT
DTSTART;TZID=America/Los_Angeles:20180922T093000
DTEND;TZID=America/Los_Angeles:20180922T103000
DTSTAMP:20260420T011816
CREATED:20180717T174622Z
LAST-MODIFIED:20180717T174622Z
UID:629-1537608600-1537612200@gracieshouse.org
SUMMARY:Kaizen Crossfit's workouts for ALL ABILITIES
DESCRIPTION:
URL:https://gracieshouse.org/event/kaizen-crossfits-workouts-for-all-abilities-16/
LOCATION:NV
END:VEVENT
BEGIN:VEVENT
DTSTART;TZID=America/Los_Angeles:20180915T093000
DTEND;TZID=America/Los_Angeles:20180915T103000
DTSTAMP:20260420T011816
CREATED:20180717T174454Z
LAST-MODIFIED:20180717T174454Z
UID:627-1537003800-1537007400@gracieshouse.org
SUMMARY:Kaizen Crossfit's workouts for ALL ABILITIES
DESCRIPTION:
URL:https://gracieshouse.org/event/kaizen-crossfits-workouts-for-all-abilities-15/
LOCATION:NV
END:VEVENT
BEGIN:VEVENT
DTSTART;TZID=America/Los_Angeles:20180908T093000
DTEND;TZID=America/Los_Angeles:20180908T103000
DTSTAMP:20260420T011816
CREATED:20180717T174346Z
LAST-MODIFIED:20180717T174346Z
UID:625-1536399000-1536402600@gracieshouse.org
SUMMARY:Kaizen Crossfit's workouts for ALL ABILITIES
DESCRIPTION:
URL:https://gracieshouse.org/event/kaizen-crossfits-workouts-for-all-abilities-14/
LOCATION:NV
END:VEVENT
BEGIN:VEVENT
DTSTART;TZID=America/Los_Angeles:20180901T093000
DTEND;TZID=America/Los_Angeles:20180901T103000
DTSTAMP:20260420T011816
CREATED:20180402T234129Z
LAST-MODIFIED:20180717T173006Z
UID:545-1535794200-1535797800@gracieshouse.org
SUMMARY:Kaizen Crossfit's workouts for all abilities
DESCRIPTION:
URL:https://gracieshouse.org/event/kaizen-crossfits-workouts-for-all-abilities-10/
LOCATION:Kaizen Crossfit\, 4520 S. Hualapai Way\, Las Vegas\, NV\, 89147\, United States
END:VEVENT
BEGIN:VEVENT
DTSTART;TZID=America/Los_Angeles:20180825T093000
DTEND;TZID=America/Los_Angeles:20180825T103000
DTSTAMP:20260420T011816
CREATED:20180717T173816Z
LAST-MODIFIED:20180717T173816Z
UID:623-1535189400-1535193000@gracieshouse.org
SUMMARY:Kaizen Crossfit's Workouts for ALL ABILITIES
DESCRIPTION:
URL:https://gracieshouse.org/event/kaizen-crossfits-workouts-for-all-abilities-13/
LOCATION:NV
END:VEVENT
BEGIN:VEVENT
DTSTART;TZID=America/Los_Angeles:20180818T093000
DTEND;TZID=America/Los_Angeles:20180818T103000
DTSTAMP:20260420T011816
CREATED:20180402T233925Z
LAST-MODIFIED:20180717T173504Z
UID:542-1534584600-1534588200@gracieshouse.org
SUMMARY:Kaizen Crossfit's workouts for all abilities
DESCRIPTION:
URL:https://gracieshouse.org/event/kaizen-crossfits-workouts-for-all-abilities-9/
LOCATION:NV
END:VEVENT
BEGIN:VEVENT
DTSTART;TZID=America/Los_Angeles:20180811T093000
DTEND;TZID=America/Los_Angeles:20180811T103000
DTSTAMP:20260420T011816
CREATED:20180717T172716Z
LAST-MODIFIED:20180717T172716Z
UID:618-1533979800-1533983400@gracieshouse.org
SUMMARY:Kaizen Crossfit's Workouts for ALL ABILITIES
DESCRIPTION:
URL:https://gracieshouse.org/event/kaizen-crossfits-workouts-for-all-abilities-6/
LOCATION:NV
END:VEVENT
BEGIN:VEVENT
DTSTART;TZID=America/Los_Angeles:20180805T160000
DTEND;TZID=America/Los_Angeles:20180805T180000
DTSTAMP:20260420T011816
CREATED:20180522T234938Z
LAST-MODIFIED:20180522T234938Z
UID:600-1533484800-1533492000@gracieshouse.org
SUMMARY:Inclusion ROCKS-art event
DESCRIPTION:Join us for an evening of connecting and painting rocks. We want to spread the word about INCLUSION! We will be asking you to hide your painted rocks throughout the community:) ****LIMITED SPACES****\nPlease click on the Eventbrite link to register. Location will be emailed to you once you register.
URL:https://gracieshouse.org/event/inclusion-rocks-art-event/
LOCATION:TBA\, Las Vegas\, NV
END:VEVENT
BEGIN:VEVENT
DTSTART;TZID=America/Los_Angeles:20180804T093000
DTEND;TZID=America/Los_Angeles:20180804T103000
DTSTAMP:20260420T011816
CREATED:20180402T233809Z
LAST-MODIFIED:20180717T172406Z
UID:540-1533375000-1533378600@gracieshouse.org
SUMMARY:Kaizen Crossfit's workouts for all abilities
DESCRIPTION:
URL:https://gracieshouse.org/event/kaizen-crossfits-workouts-for-all-abilities-8/
LOCATION:Kaizen Crossfit\, 4520 S. Hualapai Way\, Las Vegas\, NV\, 89147\, United States
END:VEVENT
BEGIN:VEVENT
DTSTART;TZID=America/Los_Angeles:20180728T093000
DTEND;TZID=America/Los_Angeles:20180728T103000
DTSTAMP:20260420T011816
CREATED:20180717T172234Z
LAST-MODIFIED:20180717T172234Z
UID:616-1532770200-1532773800@gracieshouse.org
SUMMARY:Kaizen Crossfit's workouts for ALL ABILITIES
DESCRIPTION:
URL:https://gracieshouse.org/event/kaizen-crossfits-workouts-for-all-abilities-2/
LOCATION:NV
END:VEVENT
BEGIN:VEVENT
DTSTART;TZID=America/Los_Angeles:20180721T093000
DTEND;TZID=America/Los_Angeles:20180721T103000
DTSTAMP:20260420T011816
CREATED:20180402T233122Z
LAST-MODIFIED:20180717T171335Z
UID:535-1532165400-1532169000@gracieshouse.org
SUMMARY:Kaizen Crossfit's workouts for all abilities
DESCRIPTION:
URL:https://gracieshouse.org/event/kaizen-crossfits-workouts-for-all-abilities-7/
LOCATION:Kaizen Crossfit\, 4520 S. Hualapai Way\, Las Vegas\, NV\, 89147\, United States
END:VEVENT
BEGIN:VEVENT
DTSTART;TZID=America/Los_Angeles:20180715T090000
DTEND;TZID=America/Los_Angeles:20180715T113000
DTSTAMP:20260420T011816
CREATED:20180402T233420Z
LAST-MODIFIED:20180711T173241Z
UID:538-1531645200-1531654200@gracieshouse.org
SUMMARY:Movie Morning with New Vista
DESCRIPTION:Join us for a FREE movie with our friends from New Vista! Click on the Eventbrite link to register.
URL:https://gracieshouse.org/event/movie-morning-with-new-vista/
LOCATION:NV
END:VEVENT
BEGIN:VEVENT
DTSTART;TZID=America/Los_Angeles:20180628T183000
DTEND;TZID=America/Los_Angeles:20180628T210000
DTSTAMP:20260420T011816
CREATED:20180417T233649Z
LAST-MODIFIED:20180522T232919Z
UID:561-1530210600-1530219600@gracieshouse.org
SUMMARY:Join us for a ride on the High Roller Observation Wheel and appetizers at Off The Strip at the Linq Promenade
DESCRIPTION:Please click on the Eventbrite link to register. Tickets required.
URL:https://gracieshouse.org/event/gracies-house-and-joy-prom-get-together-at-the-linq-high-roller/
LOCATION:The Linq High Roller\, 3545 S Las Vegas BLVD\, Las Vegas\, NV\, 89109\, United States
ORGANIZER;CN="Kelly Cooper":MAILTO:kelly@gracieshouse.org
END:VEVENT
BEGIN:VEVENT
DTSTART;TZID=America/Los_Angeles:20180623T130000
DTEND;TZID=America/Los_Angeles:20180623T160000
DTSTAMP:20260420T011816
CREATED:20180622T015718Z
LAST-MODIFIED:20180622T015718Z
UID:604-1529758800-1529769600@gracieshouse.org
SUMMARY:Kendra Scott Gives Back Party!
DESCRIPTION:
URL:https://gracieshouse.org/event/kendra-scott-gives-back-party/
LOCATION:NV
END:VEVENT
BEGIN:VEVENT
DTSTART;TZID=America/Los_Angeles:20180616T130000
DTEND;TZID=America/Los_Angeles:20180616T140000
DTSTAMP:20260420T011816
CREATED:20180402T232303Z
LAST-MODIFIED:20180402T232303Z
UID:531-1529154000-1529157600@gracieshouse.org
SUMMARY:Kaizen Crossfit's workouts for all abilities
DESCRIPTION:
URL:https://gracieshouse.org/event/kaizen-crossfits-workouts-for-all-abilities-5/
LOCATION:Kaizen Crossfit\, 4520 S. Hualapai Way\, Las Vegas\, NV\, 89147\, United States
END:VEVENT
BEGIN:VEVENT
DTSTART;VALUE=DATE:20180606
DTEND;VALUE=DATE:20180607
DTSTAMP:20260420T011816
CREATED:20180402T231607Z
LAST-MODIFIED:20180402T231607Z
UID:528-1528243200-1528329599@gracieshouse.org
SUMMARY:Pizza Rev Fundraiser
DESCRIPTION:Stop by Pizza Rev on Rainbow Blvd and grab a pizza! Mention Gracie’s House anytime between 11am and 11pm and 20% of your bill will go directly towards helping us create a more inclusive community!
URL:https://gracieshouse.org/event/pizza-rev-fundraiser/
LOCATION:Pizza Rev\, 7090 South Rainbow Blvd. Suite 110\, Las Vegas\, 89118\, United States
END:VEVENT
END:VCALENDAR